BEGIN:VCALENDAR
VERSION:2.0
PRODID:spatie/icalendar-generator
DESCRIPTION:Events from First Presbyterian Preschool
X-WR-CALDESC:Events from First Presbyterian Preschool
REFRESH-INTERVAL;VALUE=DURATION:PT1440M
X-PUBLISHED-TTL:PT1440M
BEGIN:VTIMEZONE
TZID:Etc/GMT+0
BEGIN:STANDARD
DTSTART:20240815T083900Z
TZOFFSETFROM:+0000
TZOFFSETTO:+0000
END:STANDARD
END:VTIMEZONE
BEGIN:VTIMEZONE
TZID:UTC
BEGIN:STANDARD
DTSTART:20250726T232552Z
TZOFFSETFROM:+0000
TZOFFSETTO:+0000
END:STANDARD
END:VTIMEZONE
BEGIN:VEVENT
UID:29-29
DTSTAMP:20260422T232552Z
SUMMARY:FPP Mother's Teas
LOCATION:
ORGANIZER;CN=Courtney Buchholtz:MAILTO:cbuchholtz@fpptacoma.org
DTSTART;TZID=Etc/GMT+0:20250512T083900
DTEND;TZID=Etc/GMT+0:20250516T113000
X-ALT-DESC;FMTTYPE=TEXT/HTML:
CATEGORIES:General
URL;VALUE=URI:https://fpptacoma.org/mc-events/fpp-mothers-teas/?mc_id=29
END:VEVENT
END:VCALENDAR