BEGIN:VCALENDAR
VERSION:2.0
PRODID:spatie/icalendar-generator
DESCRIPTION:Events from First Presbyterian Preschool
X-WR-CALDESC:Events from First Presbyterian Preschool
REFRESH-INTERVAL;VALUE=DURATION:PT1440M
X-PUBLISHED-TTL:PT1440M
BEGIN:VTIMEZONE
TZID:Etc/GMT+0
BEGIN:STANDARD
DTSTART:20240826T000000Z
TZOFFSETFROM:+0000
TZOFFSETTO:+0000
END:STANDARD
END:VTIMEZONE
BEGIN:VTIMEZONE
TZID:UTC
BEGIN:STANDARD
DTSTART:20250726T222356Z
TZOFFSETFROM:+0000
TZOFFSETTO:+0000
END:STANDARD
END:VTIMEZONE
BEGIN:VEVENT
UID:30-30
DTSTAMP:20260422T222356Z
SUMMARY:Memorial Weekend - No Preschool/Office Closed
LOCATION:
ORGANIZER;CN=Courtney Buchholtz:MAILTO:cbuchholtz@fpptacoma.org
DTSTART;TZID=Etc/GMT+0;VALUE=DATE:20250523
DTEND;TZID=Etc/GMT+0;VALUE=DATE:20250527
X-ALT-DESC;FMTTYPE=TEXT/HTML:
CATEGORIES:General
URL;VALUE=URI:https://fpptacoma.org/mc-events/memorial-weekend-no-preschool
 -office-closed/?mc_id=30
END:VEVENT
END:VCALENDAR