BEGIN:VCALENDAR
VERSION:2.0
PRODID:spatie/icalendar-generator
DESCRIPTION:Events from First Presbyterian Preschool
X-WR-CALDESC:Events from First Presbyterian Preschool
REFRESH-INTERVAL;VALUE=DURATION:PT1440M
X-PUBLISHED-TTL:PT1440M
BEGIN:VTIMEZONE
TZID:Etc/GMT+0
BEGIN:STANDARD
DTSTART:20241212T000000Z
TZOFFSETFROM:+0000
TZOFFSETTO:+0000
END:STANDARD
END:VTIMEZONE
BEGIN:VTIMEZONE
TZID:UTC
BEGIN:STANDARD
DTSTART:20250726T124335Z
TZOFFSETFROM:+0000
TZOFFSETTO:+0000
END:STANDARD
END:VTIMEZONE
BEGIN:VEVENT
UID:42-39
DTSTAMP:20260422T124335Z
SUMMARY:First Day of school for Beginners M/W &amp;amp\; Little Miracles
LOCATION:
ORGANIZER;CN=Courtney Buchholtz:MAILTO:cbuchholtz@fpptacoma.org
DTSTART;TZID=Etc/GMT+0;VALUE=DATE:20250908
DTEND;TZID=Etc/GMT+0;VALUE=DATE:20250909
X-ALT-DESC;FMTTYPE=TEXT/HTML:
CATEGORIES:General
URL;VALUE=URI:https://fpptacoma.org/mc-events/first-day-of-school-for-begin
 ners-m-w-little-miracles/?mc_id=42
END:VEVENT
END:VCALENDAR