BEGIN:VCALENDAR
VERSION:2.0
PRODID:spatie/icalendar-generator
DESCRIPTION:Events from First Presbyterian Preschool
X-WR-CALDESC:Events from First Presbyterian Preschool
REFRESH-INTERVAL;VALUE=DURATION:PT1440M
X-PUBLISHED-TTL:PT1440M
BEGIN:VTIMEZONE
TZID:Etc/GMT+0
BEGIN:STANDARD
DTSTART:20250112T000000Z
TZOFFSETFROM:+0000
TZOFFSETTO:+0000
END:STANDARD
END:VTIMEZONE
BEGIN:VTIMEZONE
TZID:UTC
BEGIN:STANDARD
DTSTART:20250726T095454Z
TZOFFSETFROM:+0000
TZOFFSETTO:+0000
END:STANDARD
END:VTIMEZONE
BEGIN:VEVENT
UID:45-43
DTSTAMP:20260422T095454Z
SUMMARY:Goal Setting Conferences - No Preschool
LOCATION:
ORGANIZER;CN=Courtney Buchholtz:MAILTO:cbuchholtz@fpptacoma.org
DTSTART;TZID=Etc/GMT+0:20251009T000000
DTEND;TZID=Etc/GMT+0:20251010T010000
X-ALT-DESC;FMTTYPE=TEXT/HTML:
CATEGORIES:General
URL;VALUE=URI:https://fpptacoma.org/mc-events/goal-setting-conferences-no-p
 reschool/?mc_id=45
END:VEVENT
END:VCALENDAR