BEGIN:VCALENDAR
VERSION:2.0
PRODID:spatie/icalendar-generator
DESCRIPTION:Events from First Presbyterian Preschool
X-WR-CALDESC:Events from First Presbyterian Preschool
REFRESH-INTERVAL;VALUE=DURATION:PT1440M
X-PUBLISHED-TTL:PT1440M
BEGIN:VTIMEZONE
TZID:Etc/GMT+0
BEGIN:STANDARD
DTSTART:20250111T000000Z
TZOFFSETFROM:+0000
TZOFFSETTO:+0000
END:STANDARD
END:VTIMEZONE
BEGIN:VTIMEZONE
TZID:UTC
BEGIN:STANDARD
DTSTART:20250726T104821Z
TZOFFSETFROM:+0000
TZOFFSETTO:+0000
END:STANDARD
END:VTIMEZONE
BEGIN:VEVENT
UID:44-42
DTSTAMP:20260422T104821Z
SUMMARY:FPP Half Day Preschool
LOCATION:
ORGANIZER;CN=Courtney Buchholtz:MAILTO:cbuchholtz@fpptacoma.org
DTSTART;TZID=Etc/GMT+0;VALUE=DATE:20251008
DTEND;TZID=Etc/GMT+0;VALUE=DATE:20251009
X-ALT-DESC;FMTTYPE=TEXT/HTML:
CATEGORIES:General
URL;VALUE=URI:https://fpptacoma.org/mc-events/fpp-half-day-preschool-3/?mc_
 id=44
END:VEVENT
END:VCALENDAR